BEGIN:VCALENDAR
VERSION:2.0
PRODID:-//My Calendar//http://www.joedolson.com//v3.1.18//EN
METHOD:PUBLISH
CALSCALE:GREGORIAN
X-WR-CALNAME:nuku
X-PUBLISHED-TTL:PT24H
REFRESH-INTERVAL;VALUE=DURATION:PT24H
X-WR-CALDESC:nukuのイベント
BEGIN:VEVENT
UID:1982-1979
LOCATION:
SUMMARY:roon勤務
DTSTAMP:20260504T000000
ORGANIZER;CN=nuku:MAILTO:tomohiro.fukumura@million-dream.co.jp
DTSTART;TZID=Asia/Tokyo:20260504T000000
DTEND;TZID=Asia/Tokyo:20260505T000000
URL;VALUE=URI:http://hair-nuku.com/my-calendar/
DESCRIPTION: 
CATEGORIES:Toshihiro Saito
X-FUNAMBOL-ALLDAY: 1
X-MICROSOFT-CDO-ALLDAYEVENT: TRUE

END:VEVENT
BEGIN:VEVENT
UID:1983-1980
LOCATION:
SUMMARY:roon勤務
DTSTAMP:20260518T000000
ORGANIZER;CN=nuku:MAILTO:tomohiro.fukumura@million-dream.co.jp
DTSTART;TZID=Asia/Tokyo:20260518T000000
DTEND;TZID=Asia/Tokyo:20260519T000000
URL;VALUE=URI:http://hair-nuku.com/my-calendar/
DESCRIPTION: 
CATEGORIES:Toshihiro Saito
X-FUNAMBOL-ALLDAY: 1
X-MICROSOFT-CDO-ALLDAYEVENT: TRUE

END:VEVENT
BEGIN:VEVENT
UID:1981-1978
LOCATION:
SUMMARY:公休日
DTSTAMP:20260522T000000
ORGANIZER;CN=nuku:MAILTO:tomohiro.fukumura@million-dream.co.jp
DTSTART;TZID=Asia/Tokyo:20260522T000000
DTEND;TZID=Asia/Tokyo:20260523T000000
URL;VALUE=URI:http://hair-nuku.com/my-calendar/
DESCRIPTION: 
CATEGORIES:Seina Iida
X-FUNAMBOL-ALLDAY: 1
X-MICROSOFT-CDO-ALLDAYEVENT: TRUE

END:VEVENT
BEGIN:VEVENT
UID:1979-1976
LOCATION:
SUMMARY:公休日
DTSTAMP:20260501T000000
ORGANIZER;CN=nuku:MAILTO:tomohiro.fukumura@million-dream.co.jp
DTSTART;TZID=Asia/Tokyo:20260501T000000
DTEND;TZID=Asia/Tokyo:20260502T000000
URL;VALUE=URI:http://hair-nuku.com/my-calendar/
DESCRIPTION: 
CATEGORIES:Seina Iida
X-FUNAMBOL-ALLDAY: 1
X-MICROSOFT-CDO-ALLDAYEVENT: TRUE

END:VEVENT
BEGIN:VEVENT
UID:1980-1977
LOCATION:
SUMMARY:公休日
DTSTAMP:20260513T000000
ORGANIZER;CN=nuku:MAILTO:tomohiro.fukumura@million-dream.co.jp
DTSTART;TZID=Asia/Tokyo:20260513T000000
DTEND;TZID=Asia/Tokyo:20260514T000000
URL;VALUE=URI:http://hair-nuku.com/my-calendar/
DESCRIPTION: 
CATEGORIES:Seina Iida
X-FUNAMBOL-ALLDAY: 1
X-MICROSOFT-CDO-ALLDAYEVENT: TRUE

END:VEVENT
BEGIN:VEVENT
UID:1977-1974
LOCATION:
SUMMARY:公休日
DTSTAMP:20260523T000000
ORGANIZER;CN=nuku:MAILTO:tomohiro.fukumura@million-dream.co.jp
DTSTART;TZID=Asia/Tokyo:20260523T000000
DTEND;TZID=Asia/Tokyo:20260524T000000
URL;VALUE=URI:http://hair-nuku.com/my-calendar/
DESCRIPTION: 
CATEGORIES:Mika Masaka
X-FUNAMBOL-ALLDAY: 1
X-MICROSOFT-CDO-ALLDAYEVENT: TRUE

END:VEVENT
BEGIN:VEVENT
UID:1978-1975
LOCATION:
SUMMARY:公休日
DTSTAMP:20260531T000000
ORGANIZER;CN=nuku:MAILTO:tomohiro.fukumura@million-dream.co.jp
DTSTART;TZID=Asia/Tokyo:20260531T000000
DTEND;TZID=Asia/Tokyo:20260601T000000
URL;VALUE=URI:http://hair-nuku.com/my-calendar/
DESCRIPTION: 
CATEGORIES:Mika Masaka
X-FUNAMBOL-ALLDAY: 1
X-MICROSOFT-CDO-ALLDAYEVENT: TRUE

END:VEVENT
BEGIN:VEVENT
UID:1975-1972
LOCATION:
SUMMARY:公休日
DTSTAMP:20260506T000000
ORGANIZER;CN=nuku:MAILTO:tomohiro.fukumura@million-dream.co.jp
DTSTART;TZID=Asia/Tokyo:20260506T000000
DTEND;TZID=Asia/Tokyo:20260507T000000
URL;VALUE=URI:http://hair-nuku.com/my-calendar/
DESCRIPTION: 
CATEGORIES:Mika Masaka
X-FUNAMBOL-ALLDAY: 1
X-MICROSOFT-CDO-ALLDAYEVENT: TRUE

END:VEVENT
BEGIN:VEVENT
UID:1976-1973
LOCATION:
SUMMARY:公休日
DTSTAMP:20260510T000000
ORGANIZER;CN=nuku:MAILTO:tomohiro.fukumura@million-dream.co.jp
DTSTART;TZID=Asia/Tokyo:20260510T000000
DTEND;TZID=Asia/Tokyo:20260511T000000
URL;VALUE=URI:http://hair-nuku.com/my-calendar/
DESCRIPTION: 
CATEGORIES:Mika Masaka
X-FUNAMBOL-ALLDAY: 1
X-MICROSOFT-CDO-ALLDAYEVENT: TRUE

END:VEVENT
BEGIN:VEVENT
UID:1973-1970
LOCATION:
SUMMARY:定休日
DTSTAMP:20260525T000000
ORGANIZER;CN=nuku:MAILTO:tomohiro.fukumura@million-dream.co.jp
DTSTART;TZID=Asia/Tokyo:20260525T000000
DTEND;TZID=Asia/Tokyo:20260526T000000
URL;VALUE=URI:http://hair-nuku.com/my-calendar/
DESCRIPTION: 
CATEGORIES:定休日
X-FUNAMBOL-ALLDAY: 1
X-MICROSOFT-CDO-ALLDAYEVENT: TRUE

END:VEVENT
BEGIN:VEVENT
UID:1974-1971
LOCATION:
SUMMARY:定休日
DTSTAMP:20260526T000000
ORGANIZER;CN=nuku:MAILTO:tomohiro.fukumura@million-dream.co.jp
DTSTART;TZID=Asia/Tokyo:20260526T000000
DTEND;TZID=Asia/Tokyo:20260527T000000
URL;VALUE=URI:http://hair-nuku.com/my-calendar/
DESCRIPTION: 
CATEGORIES:定休日
X-FUNAMBOL-ALLDAY: 1
X-MICROSOFT-CDO-ALLDAYEVENT: TRUE

END:VEVENT
BEGIN:VEVENT
UID:1970-1967
LOCATION:
SUMMARY:定休日
DTSTAMP:20260511T000000
ORGANIZER;CN=nuku:MAILTO:tomohiro.fukumura@million-dream.co.jp
DTSTART;TZID=Asia/Tokyo:20260511T000000
DTEND;TZID=Asia/Tokyo:20260512T000000
URL;VALUE=URI:http://hair-nuku.com/my-calendar/
DESCRIPTION: 
CATEGORIES:定休日
X-FUNAMBOL-ALLDAY: 1
X-MICROSOFT-CDO-ALLDAYEVENT: TRUE

END:VEVENT
BEGIN:VEVENT
UID:1971-1968
LOCATION:
SUMMARY:定休日
DTSTAMP:20260512T000000
ORGANIZER;CN=nuku:MAILTO:tomohiro.fukumura@million-dream.co.jp
DTSTART;TZID=Asia/Tokyo:20260512T000000
DTEND;TZID=Asia/Tokyo:20260513T000000
URL;VALUE=URI:http://hair-nuku.com/my-calendar/
DESCRIPTION: 
CATEGORIES:定休日
X-FUNAMBOL-ALLDAY: 1
X-MICROSOFT-CDO-ALLDAYEVENT: TRUE

END:VEVENT
BEGIN:VEVENT
UID:1972-1969
LOCATION:
SUMMARY:定休日
DTSTAMP:20260519T000000
ORGANIZER;CN=nuku:MAILTO:tomohiro.fukumura@million-dream.co.jp
DTSTART;TZID=Asia/Tokyo:20260519T000000
DTEND;TZID=Asia/Tokyo:20260520T000000
URL;VALUE=URI:http://hair-nuku.com/my-calendar/
DESCRIPTION: 
CATEGORIES:定休日
X-FUNAMBOL-ALLDAY: 1
X-MICROSOFT-CDO-ALLDAYEVENT: TRUE

END:VEVENT
BEGIN:VEVENT
UID:1969-1966
LOCATION:
SUMMARY:定休日
DTSTAMP:20260505T000000
ORGANIZER;CN=nuku:MAILTO:tomohiro.fukumura@million-dream.co.jp
DTSTART;TZID=Asia/Tokyo:20260505T000000
DTEND;TZID=Asia/Tokyo:20260506T000000
URL;VALUE=URI:http://hair-nuku.com/my-calendar/
DESCRIPTION: 
CATEGORIES:定休日
X-FUNAMBOL-ALLDAY: 1
X-MICROSOFT-CDO-ALLDAYEVENT: TRUE

END:VEVENT
BEGIN:VEVENT
UID:1967-1964
LOCATION:
SUMMARY:roon勤務
DTSTAMP:20260406T000000
ORGANIZER;CN=nuku:MAILTO:tomohiro.fukumura@million-dream.co.jp
DTSTART;TZID=Asia/Tokyo:20260406T000000
DTEND;TZID=Asia/Tokyo:20260407T000000
URL;VALUE=URI:http://hair-nuku.com/my-calendar/
DESCRIPTION: 
CATEGORIES:Toshihiro Saito
X-FUNAMBOL-ALLDAY: 1
X-MICROSOFT-CDO-ALLDAYEVENT: TRUE

END:VEVENT
BEGIN:VEVENT
UID:1968-1965
LOCATION:
SUMMARY:roon勤務
DTSTAMP:20260420T000000
ORGANIZER;CN=nuku:MAILTO:tomohiro.fukumura@million-dream.co.jp
DTSTART;TZID=Asia/Tokyo:20260420T000000
DTEND;TZID=Asia/Tokyo:20260421T000000
URL;VALUE=URI:http://hair-nuku.com/my-calendar/
DESCRIPTION: 
CATEGORIES:Toshihiro Saito
X-FUNAMBOL-ALLDAY: 1
X-MICROSOFT-CDO-ALLDAYEVENT: TRUE

END:VEVENT
BEGIN:VEVENT
UID:1965-1962
LOCATION:
SUMMARY:公休日
DTSTAMP:20260403T000000
ORGANIZER;CN=nuku:MAILTO:tomohiro.fukumura@million-dream.co.jp
DTSTART;TZID=Asia/Tokyo:20260403T000000
DTEND;TZID=Asia/Tokyo:20260404T000000
URL;VALUE=URI:http://hair-nuku.com/my-calendar/
DESCRIPTION: 
CATEGORIES:Seina Iida
X-FUNAMBOL-ALLDAY: 1
X-MICROSOFT-CDO-ALLDAYEVENT: TRUE

END:VEVENT
BEGIN:VEVENT
UID:1966-1963
LOCATION:
SUMMARY:公休日
DTSTAMP:20260422T000000
ORGANIZER;CN=nuku:MAILTO:tomohiro.fukumura@million-dream.co.jp
DTSTART;TZID=Asia/Tokyo:20260422T000000
DTEND;TZID=Asia/Tokyo:20260423T000000
URL;VALUE=URI:http://hair-nuku.com/my-calendar/
DESCRIPTION: 
CATEGORIES:Seina Iida
X-FUNAMBOL-ALLDAY: 1
X-MICROSOFT-CDO-ALLDAYEVENT: TRUE

END:VEVENT
BEGIN:VEVENT
UID:1964-1961
LOCATION:
SUMMARY:公休日
DTSTAMP:20260401T000000
ORGANIZER;CN=nuku:MAILTO:tomohiro.fukumura@million-dream.co.jp
DTSTART;TZID=Asia/Tokyo:20260401T000000
DTEND;TZID=Asia/Tokyo:20260402T000000
URL;VALUE=URI:http://hair-nuku.com/my-calendar/
DESCRIPTION: 
CATEGORIES:Seina Iida
X-FUNAMBOL-ALLDAY: 1
X-MICROSOFT-CDO-ALLDAYEVENT: TRUE

END:VEVENT
BEGIN:VEVENT
UID:1961-1958
LOCATION:
SUMMARY:公休日
DTSTAMP:20260408T000000
ORGANIZER;CN=nuku:MAILTO:tomohiro.fukumura@million-dream.co.jp
DTSTART;TZID=Asia/Tokyo:20260408T000000
DTEND;TZID=Asia/Tokyo:20260409T000000
URL;VALUE=URI:http://hair-nuku.com/my-calendar/
DESCRIPTION: 
CATEGORIES:Mika Masaka
X-FUNAMBOL-ALLDAY: 1
X-MICROSOFT-CDO-ALLDAYEVENT: TRUE

END:VEVENT
BEGIN:VEVENT
UID:1962-1959
LOCATION:
SUMMARY:公休日
DTSTAMP:20260416T000000
ORGANIZER;CN=nuku:MAILTO:tomohiro.fukumura@million-dream.co.jp
DTSTART;TZID=Asia/Tokyo:20260416T000000
DTEND;TZID=Asia/Tokyo:20260417T000000
URL;VALUE=URI:http://hair-nuku.com/my-calendar/
DESCRIPTION: 
CATEGORIES:Mika Masaka
X-FUNAMBOL-ALLDAY: 1
X-MICROSOFT-CDO-ALLDAYEVENT: TRUE

END:VEVENT
BEGIN:VEVENT
UID:1963-1960
LOCATION:
SUMMARY:公休日
DTSTAMP:20260426T000000
ORGANIZER;CN=nuku:MAILTO:tomohiro.fukumura@million-dream.co.jp
DTSTART;TZID=Asia/Tokyo:20260426T000000
DTEND;TZID=Asia/Tokyo:20260427T000000
URL;VALUE=URI:http://hair-nuku.com/my-calendar/
DESCRIPTION: 
CATEGORIES:Mika Masaka
X-FUNAMBOL-ALLDAY: 1
X-MICROSOFT-CDO-ALLDAYEVENT: TRUE

END:VEVENT
BEGIN:VEVENT
UID:1960-1957
LOCATION:
SUMMARY:公休日
DTSTAMP:20260405T000000
ORGANIZER;CN=nuku:MAILTO:tomohiro.fukumura@million-dream.co.jp
DTSTART;TZID=Asia/Tokyo:20260405T000000
DTEND;TZID=Asia/Tokyo:20260406T000000
URL;VALUE=URI:http://hair-nuku.com/my-calendar/
DESCRIPTION: 
CATEGORIES:Mika Masaka
X-FUNAMBOL-ALLDAY: 1
X-MICROSOFT-CDO-ALLDAYEVENT: TRUE

END:VEVENT
BEGIN:VEVENT
UID:1956-1953
LOCATION:
SUMMARY:定休日
DTSTAMP:20260414T000000
ORGANIZER;CN=nuku:MAILTO:tomohiro.fukumura@million-dream.co.jp
DTSTART;TZID=Asia/Tokyo:20260414T000000
DTEND;TZID=Asia/Tokyo:20260415T000000
URL;VALUE=URI:http://hair-nuku.com/my-calendar/
DESCRIPTION: 
CATEGORIES:定休日
X-FUNAMBOL-ALLDAY: 1
X-MICROSOFT-CDO-ALLDAYEVENT: TRUE

END:VEVENT
BEGIN:VEVENT
UID:1957-1954
LOCATION:
SUMMARY:定休日
DTSTAMP:20260421T000000
ORGANIZER;CN=nuku:MAILTO:tomohiro.fukumura@million-dream.co.jp
DTSTART;TZID=Asia/Tokyo:20260421T000000
DTEND;TZID=Asia/Tokyo:20260422T000000
URL;VALUE=URI:http://hair-nuku.com/my-calendar/
DESCRIPTION: 
CATEGORIES:定休日
X-FUNAMBOL-ALLDAY: 1
X-MICROSOFT-CDO-ALLDAYEVENT: TRUE

END:VEVENT
BEGIN:VEVENT
UID:1958-1955
LOCATION:
SUMMARY:定休日
DTSTAMP:20260427T000000
ORGANIZER;CN=nuku:MAILTO:tomohiro.fukumura@million-dream.co.jp
DTSTART;TZID=Asia/Tokyo:20260427T000000
DTEND;TZID=Asia/Tokyo:20260428T000000
URL;VALUE=URI:http://hair-nuku.com/my-calendar/
DESCRIPTION: 
CATEGORIES:定休日
X-FUNAMBOL-ALLDAY: 1
X-MICROSOFT-CDO-ALLDAYEVENT: TRUE

END:VEVENT
BEGIN:VEVENT
UID:1959-1956
LOCATION:
SUMMARY:定休日
DTSTAMP:20260428T000000
ORGANIZER;CN=nuku:MAILTO:tomohiro.fukumura@million-dream.co.jp
DTSTART;TZID=Asia/Tokyo:20260428T000000
DTEND;TZID=Asia/Tokyo:20260429T000000
URL;VALUE=URI:http://hair-nuku.com/my-calendar/
DESCRIPTION: 
CATEGORIES:定休日
X-FUNAMBOL-ALLDAY: 1
X-MICROSOFT-CDO-ALLDAYEVENT: TRUE

END:VEVENT
BEGIN:VEVENT
UID:1954-1951
LOCATION:
SUMMARY:定休日
DTSTAMP:20260407T000000
ORGANIZER;CN=nuku:MAILTO:tomohiro.fukumura@million-dream.co.jp
DTSTART;TZID=Asia/Tokyo:20260407T000000
DTEND;TZID=Asia/Tokyo:20260408T000000
URL;VALUE=URI:http://hair-nuku.com/my-calendar/
DESCRIPTION: 
CATEGORIES:定休日
X-FUNAMBOL-ALLDAY: 1
X-MICROSOFT-CDO-ALLDAYEVENT: TRUE

END:VEVENT
BEGIN:VEVENT
UID:1955-1952
LOCATION:
SUMMARY:定休日
DTSTAMP:20260413T000000
ORGANIZER;CN=nuku:MAILTO:tomohiro.fukumura@million-dream.co.jp
DTSTART;TZID=Asia/Tokyo:20260413T000000
DTEND;TZID=Asia/Tokyo:20260414T000000
URL;VALUE=URI:http://hair-nuku.com/my-calendar/
DESCRIPTION: 
CATEGORIES:定休日
X-FUNAMBOL-ALLDAY: 1
X-MICROSOFT-CDO-ALLDAYEVENT: TRUE

END:VEVENT
END:VCALENDAR